BEGIN:VCALENDAR
VERSION:2.0
PRODID:-//Dagmar Hadersbeck - Beratung.Coaching.Potenziale - ECPv6.15.20//NONSGML v1.0//EN
CALSCALE:GREGORIAN
METHOD:PUBLISH
X-WR-CALNAME:Dagmar Hadersbeck - Beratung.Coaching.Potenziale
X-ORIGINAL-URL:https://dagmarhadersbeck.de
X-WR-CALDESC:Veranstaltungen für Dagmar Hadersbeck - Beratung.Coaching.Potenziale
REFRESH-INTERVAL;VALUE=DURATION:PT1H
X-Robots-Tag:noindex
X-PUBLISHED-TTL:PT1H
BEGIN:VTIMEZONE
TZID:Europe/Berlin
BEGIN:DAYLIGHT
TZOFFSETFROM:+0100
TZOFFSETTO:+0200
TZNAME:CEST
DTSTART:20240331T010000
END:DAYLIGHT
BEGIN:STANDARD
TZOFFSETFROM:+0200
TZOFFSETTO:+0100
TZNAME:CET
DTSTART:20241027T010000
END:STANDARD
BEGIN:DAYLIGHT
TZOFFSETFROM:+0100
TZOFFSETTO:+0200
TZNAME:CEST
DTSTART:20250330T010000
END:DAYLIGHT
BEGIN:STANDARD
TZOFFSETFROM:+0200
TZOFFSETTO:+0100
TZNAME:CET
DTSTART:20251026T010000
END:STANDARD
BEGIN:DAYLIGHT
TZOFFSETFROM:+0100
TZOFFSETTO:+0200
TZNAME:CEST
DTSTART:20260329T010000
END:DAYLIGHT
BEGIN:STANDARD
TZOFFSETFROM:+0200
TZOFFSETTO:+0100
TZNAME:CET
DTSTART:20261025T010000
END:STANDARD
END:VTIMEZONE
BEGIN:VEVENT
DTSTART;TZID=Europe/Berlin:20251018T140000
DTEND;TZID=Europe/Berlin:20251018T170000
DTSTAMP:20260421T132604
CREATED:20250829T111940Z
LAST-MODIFIED:20250829T113827Z
UID:1856-1760796000-1760806800@dagmarhadersbeck.de
SUMMARY:Selfcare-Nachmittag
DESCRIPTION:Selfcare-Nachmittag								\n				\n									Samstag\, 18.10.2025 14:00 bis 17:00 Uhr								\n					\n		\n				\n			\n							\n		\n					\n		\n				\n						\n					\n			\n						\n									Leichtigkeit. Weite. Lebensfreude								\n					\n		\n					\n		\n				\n						\n					\n			\n						\n									Ein Nachmittag\, der nachwirkt.								\n					\n		\n					\n		\n				\n						\n					\n			\n						\n							\n			\n						\n		\n						\n				\n									Ein Nachmittag nur für Dich.Zur Ruhe kommen\, Kraft tanken\, Du selbst sein.								\n				\n							\n			\n						\n		\n						\n				\n									Was Dich erwartet:🔥 Tiefenentspannung mit Klangschalen🔥 Journaling-Impulse\, die Dich berühren🔥 Tools zur Selbstregulation & Klarheit🔥 Echte Begegnung mit Gleichgesinnten & herbstliche Atmosphäre🔥 Goodie-Bag für Deinen Weg🔥 Stärkung Deiner mentalen Gesundheit 								\n				\n							\n			\n						\n		\n						\n				\n									ANMELDUNG:Email: info@dagmarhadersbeck.deMobil: 0151 74302388 								\n				\n							\n			\n						\n		\n						\n				\n									Begrenzte Plätze 								\n				\n							\n			\n						\n		\n						\n				\n									Frühbucher bis 30.08.2025: 55 EURdanach: 66 EUR 								\n				\n							\n			\n						\n		\n						\n				\n									Veranstaltungsort: 								\n				\n				\n					\n				\n				\n	\n	Hermannsberg\n	\n	\n\nHermannsberg 1\n	\n		\n		Wiesent\,\n\n\n	93109\n\n	Germany\n\n\n\n\n	Google Karte anzeigen \n\n\n	\n					\n						\n	 \n\n\n	\n	 \n\n\n\n	\n\n\n\n		\n	\n				\n				\n				\n							\n			\n						\n		\n						\n				\n									Es gelten unsere Allgemeine Geschäftsbedingungen (AGBs) 								\n				\n										\n						\n									AGBs\n					\n					\n								\n					\n		\n				\n			\n						\n									Manchmal braucht es nur ein paar Stunden – Um Dich zu erinnern\, wer Du wirklich bist.Jenseits von Funktionieren\, Erwartungen und Alltag.All genders. 								\n				\n																														\n				\n							\n			\n						\n		\n						\n				\n				\n					\n	\n		\n\n	\n	Zum Kalender hinzufügen	\n		\n	\n\n		\n			\n									\n	Google Kalender\n\n									\n	iCalendar\n\n									\n	Outlook 365\n\n									\n	Outlook Live\n\n							\n		\n\n		\n	\n\n				\n				\n					\n		\n					\n		\n				\n						\n					\n			\n						\n				\n					\n		\n		Entspannung\, Journaling\, Klarheit\, mentalen Gesundheit\, Selbstfürsorge\, Selbstregulation\, Selfcare\, Tiefenentspannung
URL:https://dagmarhadersbeck.de/event/selfcare-nachmittag/
LOCATION:Hermannsberg\, Hermannsberg 1\, Wiesent\, 93109\, Germany
CATEGORIES:Entspannung,Journaling,Klarheit,mentalen Gesundheit,Selbstfürsorge,Selbstregulation,Selfcare,Tiefenentspannung
ORGANIZER;CN="Dagmar Hadersbeck":MAILTO:info@dagmarhadersbeck.de
END:VEVENT
END:VCALENDAR