BEGIN:VCALENDAR
VERSION:2.0
PRODID:-//Dagmar Hadersbeck - Beratung.Coaching.Potenziale - ECPv6.15.20//NONSGML v1.0//EN
CALSCALE:GREGORIAN
METHOD:PUBLISH
X-WR-CALNAME:Dagmar Hadersbeck - Beratung.Coaching.Potenziale
X-ORIGINAL-URL:https://dagmarhadersbeck.de
X-WR-CALDESC:Veranstaltungen für Dagmar Hadersbeck - Beratung.Coaching.Potenziale
REFRESH-INTERVAL;VALUE=DURATION:PT1H
X-Robots-Tag:noindex
X-PUBLISHED-TTL:PT1H
BEGIN:VTIMEZONE
TZID:Europe/Berlin
BEGIN:DAYLIGHT
TZOFFSETFROM:+0100
TZOFFSETTO:+0200
TZNAME:CEST
DTSTART:20240331T010000
END:DAYLIGHT
BEGIN:STANDARD
TZOFFSETFROM:+0200
TZOFFSETTO:+0100
TZNAME:CET
DTSTART:20241027T010000
END:STANDARD
BEGIN:DAYLIGHT
TZOFFSETFROM:+0100
TZOFFSETTO:+0200
TZNAME:CEST
DTSTART:20250330T010000
END:DAYLIGHT
BEGIN:STANDARD
TZOFFSETFROM:+0200
TZOFFSETTO:+0100
TZNAME:CET
DTSTART:20251026T010000
END:STANDARD
BEGIN:DAYLIGHT
TZOFFSETFROM:+0100
TZOFFSETTO:+0200
TZNAME:CEST
DTSTART:20260329T010000
END:DAYLIGHT
BEGIN:STANDARD
TZOFFSETFROM:+0200
TZOFFSETTO:+0100
TZNAME:CET
DTSTART:20261025T010000
END:STANDARD
END:VTIMEZONE
BEGIN:VEVENT
DTSTART;TZID=Europe/Berlin:20250207T190000
DTEND;TZID=Europe/Berlin:20250207T200000
DTSTAMP:20260421T155926
CREATED:20250112T203903Z
LAST-MODIFIED:20250119T155614Z
UID:1660-1738954800-1738958400@dagmarhadersbeck.de
SUMMARY:KL2025.0005_Klangschalenabend
DESCRIPTION:Klangschalenabend								\n				\n									Freitag\, 7.02.2025 19:00 bis 20:00 Uhr								\n					\n		\n				\n			\n						\n							\n					aktuell\n				\n					Warteliste\n				\n				\n						\n					\n		\n					\n		\n				\n						\n					\n			\n						\n									ENTSPANNUNG FÜR KÖRPER\, GEIST UND SEELE								\n					\n		\n					\n		\n				\n						\n					\n			\n						\n									Dagmar Hadersbeck zertifizierte Klangschalentherapeutin (nach Hess®)								\n					\n		\n					\n		\n				\n						\n					\n			\n						\n							\n			\n						\n		\n						\n				\n									Bitte (Liege)Matte\, ein kleines Kissen und eine Wolldecke mitbringen. 								\n				\n							\n			\n						\n		\n						\n				\n									ANMELDUNG:Familienstützpunkt Donau.WaldEmail: familienstuetzpunkt@vg-woerth-brennberg.deMobil: 0151-58579830 								\n				\n							\n			\n						\n		\n						\n				\n									(max. 12 Teilnehmer) 								\n				\n							\n			\n						\n		\n						\n				\n									Ausgleich: 14 Euro 								\n				\n							\n			\n						\n		\n						\n				\n									Veranstaltungsort: 								\n				\n				\n					\n				\n				\n	\n	Familienstützpunkt Donau.Wald – Yoga Raum\n	\n	\n\nIm Reitfeld 6 a\n	\n		\n		Wörth an der Donau\,\n\n\n	93086\n\n	Germany\n\n\n\n\n	Google Karte anzeigen \n\n\n	\n					\n						\n	 \n\n\n	\n	 \n\n\n\n	\n\n\n\n		\n	\n				\n				\n					\n		\n				\n			\n						\n																														\n				\n							\n			\n						\n		\n						\n				\n				\n					\n	\n		\n\n	\n	Zum Kalender hinzufügen	\n		\n	\n\n		\n			\n									\n	Google Kalender\n\n									\n	iCalendar\n\n									\n	Outlook 365\n\n									\n	Outlook Live\n\n							\n		\n\n		\n	\n\n				\n				\n					\n		\n					\n		\n				\n						\n					\n			\n						\n				\n					\n		\n		Entspannung\, Geist\, Klangschale\, Körper\, Seele
URL:https://dagmarhadersbeck.de/event/kl2025-0005_klangschalenabend/
LOCATION:Familienstützpunkt Donau.Wald – Yoga Raum\, Im Reitfeld 6 a\, Wörth an der Donau\, 93086\, Germany
CATEGORIES:Entspannung,Geist,Klangschale,Körper,Seele
ORGANIZER;CN="Familienst%C3%BCtzpunkt Donau.Wald":MAILTO:familienstuetzpunkt@vg-woerth-brennberg.de
END:VEVENT
END:VCALENDAR